BEGIN:VCALENDAR
VERSION:2.0
PRODID:icalendar-ruby
CALSCALE:GREGORIAN
BEGIN:VEVENT
DTSTAMP:20260422T140606Z
UID:f285c065-a5fa-47fc-a98d-2cbd1cbd6182
DTSTART;TZID=Pacific/Auckland:20260426T123000
DTEND;TZID=Pacific/Auckland:20260426T130000
DESCRIPTION:Property ID# 606960
SUMMARY:Openhome for 111 Queens Drive
END:VEVENT
END:VCALENDAR
