BEGIN:VCALENDAR
VERSION:2.0
PRODID:icalendar-ruby
CALSCALE:GREGORIAN
BEGIN:VEVENT
DTSTAMP:20260423T110202Z
UID:c8a275a9-98ff-45e6-8151-5e1d54ff41bf
DTSTART;TZID=Pacific/Auckland:20260425T133000
DTEND;TZID=Pacific/Auckland:20260425T140000
DESCRIPTION:Property ID# 606844
SUMMARY:Openhome for 3G/21 Rugby Street
END:VEVENT
END:VCALENDAR
