BEGIN:VCALENDAR
VERSION:2.0
PRODID:icalendar-ruby
CALSCALE:GREGORIAN
BEGIN:VEVENT
DTSTAMP:20260422T140119Z
UID:4ba4939d-ea79-4246-b961-46c2c0bfa2ca
DTSTART;VALUE=DATE:20260515
DESCRIPTION:Property ID# 606960\, Locatoin: 1/77 Thorndon Quay Wellington\,
  Time: 11:00AM
SUMMARY:Auction for 111 Queens Drive
END:VEVENT
END:VCALENDAR
