BEGIN:VCALENDAR
VERSION:2.0
PRODID:icalendar-ruby
CALSCALE:GREGORIAN
BEGIN:VEVENT
DTSTAMP:20260424T004640Z
UID:01cf0c67-6f31-485a-b15f-975857b92777
DTSTART;VALUE=DATE:20250701
DESCRIPTION:Property ID# 593845\, Time: 2:00PM
SUMMARY:Auction for 
END:VEVENT
END:VCALENDAR
