BEGIN:VCALENDAR
VERSION:2.0
PRODID:icalendar-ruby
CALSCALE:GREGORIAN
BEGIN:VEVENT
DTSTAMP:20260424T004448Z
UID:aa9cad4e-231d-40a7-b119-b5485cba488e
DTSTART;VALUE=DATE:20250218
DESCRIPTION:Property ID# 587300\, Locatoin: L1/77 Thorndon Quay\, Time: 2:0
 0PM
SUMMARY:Auction for 
END:VEVENT
END:VCALENDAR
