BEGIN:VCALENDAR
VERSION:2.0
PRODID:icalendar-ruby
CALSCALE:GREGORIAN
BEGIN:VEVENT
DTSTAMP:20260421T081200Z
UID:14640022-15ab-4894-81bf-a4e49b7ac825
DTSTART;VALUE=DATE:20240926
DESCRIPTION:Property ID# 580510\, Locatoin: 8 Kent Terrace\, Wellington\, T
 ime: 12:00PM
SUMMARY:Auction for 
END:VEVENT
END:VCALENDAR
