BEGIN:VCALENDAR
VERSION:2.0
PRODID:icalendar-ruby
CALSCALE:GREGORIAN
BEGIN:VEVENT
DTSTAMP:20260424T005517Z
UID:fda8d184-d8bc-49eb-b9a0-558f6bd8549c
DTSTART;VALUE=DATE:20240524
DESCRIPTION:Property ID# 575442\, Locatoin: L1/77 Thorndon Quay\, Time: 1:0
 0PM
SUMMARY:Auction for 
END:VEVENT
END:VCALENDAR
