BEGIN:VCALENDAR
VERSION:2.0
PRODID:icalendar-ruby
CALSCALE:GREGORIAN
BEGIN:VEVENT
DTSTAMP:20260424T070251Z
UID:0a0f6b9d-4db7-4c5c-b106-4df5c43cef0b
DTSTART;VALUE=DATE:20240424
DESCRIPTION:Property ID# 573064\, Locatoin: 1/77 Thorndon Quay\, Thorndon. 
 \, Time: 12:00PM
SUMMARY:Auction for 
END:VEVENT
END:VCALENDAR
