BEGIN:VCALENDAR
VERSION:2.0
PRODID:icalendar-ruby
CALSCALE:GREGORIAN
BEGIN:VEVENT
DTSTAMP:20260424T005517Z
UID:3098672e-34ec-4eb3-a97a-11ecf21e304a
DTSTART;VALUE=DATE:20231207
DESCRIPTION:Property ID# 566542\, Locatoin: L1/77 Thorndon Quay\, Pipatea\,
  Time: 12:00PM
SUMMARY:Auction for 
END:VEVENT
END:VCALENDAR
