BEGIN:VCALENDAR
VERSION:2.0
PRODID:icalendar-ruby
CALSCALE:GREGORIAN
BEGIN:VEVENT
DTSTAMP:20260424T004640Z
UID:01654db8-c247-4285-80fa-102ba6c3bf10
DTSTART;VALUE=DATE:20231116
DESCRIPTION:Property ID# 564788\, Locatoin: L1/77 Thorndon Quay\, Time: 2:0
 0PM
SUMMARY:Auction for 
END:VEVENT
END:VCALENDAR
