BEGIN:VCALENDAR
VERSION:2.0
PRODID:icalendar-ruby
CALSCALE:GREGORIAN
BEGIN:VEVENT
DTSTAMP:20260424T005659Z
UID:8735ccb1-3684-4635-95f2-35e14ac00f1c
DTSTART;VALUE=DATE:20230928
DESCRIPTION:Property ID# 561686\, Time: 2:00PM
SUMMARY:Auction for 
END:VEVENT
END:VCALENDAR
