BEGIN:VCALENDAR
VERSION:2.0
PRODID:icalendar-ruby
CALSCALE:GREGORIAN
BEGIN:VEVENT
DTSTAMP:20260424T034716Z
UID:1f324934-4219-436b-8300-d11eb7034ab5
DTSTART;VALUE=DATE:20230414
DESCRIPTION:Property ID# 555061\, Locatoin: Ray White Wellington City Level
  1 77 Thorndon Quay Wellington\, Time: 12:00PM
SUMMARY:Auction for 
END:VEVENT
END:VCALENDAR
