BEGIN:VCALENDAR
VERSION:2.0
PRODID:icalendar-ruby
CALSCALE:GREGORIAN
BEGIN:VEVENT
DTSTAMP:20260424T035023Z
UID:f298137f-2f10-422b-a664-e78d4c86ef08
DTSTART;VALUE=DATE:20230405
DESCRIPTION:Property ID# 553995\, Locatoin: Ray White Wellington City Level
  1 77 Thorndon Quay Wellington\, Time: 2:00PM
SUMMARY:Auction for 
END:VEVENT
END:VCALENDAR
