BEGIN:VCALENDAR
VERSION:2.0
PRODID:icalendar-ruby
CALSCALE:GREGORIAN
BEGIN:VEVENT
DTSTAMP:20260424T035602Z
UID:23613d39-0b0e-48e5-8ea9-d6173f7b8083
DTSTART;VALUE=DATE:20211104
DESCRIPTION:Property ID# 519522\, Locatoin: Ray White Wellington City Level
  1 77 Thorndon Quay Wellington\, Time: 1:00PM
SUMMARY:Auction for 
END:VEVENT
END:VCALENDAR
