BEGIN:VCALENDAR
VERSION:2.0
PRODID:icalendar-ruby
CALSCALE:GREGORIAN
BEGIN:VEVENT
DTSTAMP:20260424T102116Z
UID:9a24ea5c-7ecc-474d-b672-2635eee90f57
DTSTART;VALUE=DATE:20210805
DESCRIPTION:Property ID# 512634\, Locatoin: Harcourts Wellington City Offic
 e (not selling prior)\, Time: 1:00PM
SUMMARY:Auction for 
END:VEVENT
END:VCALENDAR
