BEGIN:VCALENDAR
VERSION:2.0
PRODID:icalendar-ruby
CALSCALE:GREGORIAN
BEGIN:VEVENT
DTSTAMP:20260424T035613Z
UID:215bbde2-2758-47b9-aa14-9d80544577f6
DTSTART;VALUE=DATE:20210128
DESCRIPTION:Property ID# 499031\, Locatoin: Ray White Wellington City Offic
 e\, Level 1 77 Thorndon Quay\, Time: 12:00PM
SUMMARY:Auction for 
END:VEVENT
END:VCALENDAR
