BEGIN:VCALENDAR
VERSION:2.0
PRODID:icalendar-ruby
CALSCALE:GREGORIAN
BEGIN:VEVENT
DTSTAMP:20260424T070112Z
UID:fb1d703f-c5e0-4ea3-9d4b-b6ef68948357
DTSTART;VALUE=DATE:20201211
DESCRIPTION:Property ID# 496224\, Locatoin: 1/77 Thorndon Quay\, Wellington
 \, Time: 3:00PM
SUMMARY:Auction for 
END:VEVENT
END:VCALENDAR
