BEGIN:VCALENDAR
VERSION:2.0
PRODID:icalendar-ruby
CALSCALE:GREGORIAN
BEGIN:VEVENT
DTSTAMP:20260424T070127Z
UID:673e2c5e-bcac-4bd4-b727-17e6f8cb6056
DTSTART;VALUE=DATE:20201029
DESCRIPTION:Property ID# 492394\, Locatoin: Ray White\, 1/77 Thorndon Quay\
 , Wellington\, Time: 1:00PM
SUMMARY:Auction for 
END:VEVENT
END:VCALENDAR
