BEGIN:VCALENDAR
VERSION:2.0
PRODID:icalendar-ruby
CALSCALE:GREGORIAN
BEGIN:VEVENT
DTSTAMP:20260424T035346Z
UID:72373f87-c1e7-49c7-bd95-e622778f3221
DTSTART;VALUE=DATE:20201105
DESCRIPTION:Property ID# 492118\, Locatoin: Ray White Wellington City Level
  1 77 Thorndon Quay Wellington\, Time: 2:00PM
SUMMARY:Auction for 
END:VEVENT
END:VCALENDAR
