BEGIN:VCALENDAR
VERSION:2.0
PRODID:icalendar-ruby
CALSCALE:GREGORIAN
BEGIN:VEVENT
DTSTAMP:20260424T035325Z
UID:6f66d5da-31cf-47d4-95f7-9e97b47ba793
DTSTART;VALUE=DATE:20200716
DESCRIPTION:Property ID# 483924\, Locatoin: Ray White Wellington City Level
  1 77 Thorndon Quay Wellington\, Time: 12:00PM
SUMMARY:Auction for 
END:VEVENT
END:VCALENDAR
