BEGIN:VCALENDAR
VERSION:2.0
PRODID:icalendar-ruby
CALSCALE:GREGORIAN
BEGIN:VEVENT
DTSTAMP:20260424T130303Z
UID:4bf92048-7ab4-49bb-affa-d37c6b87a294
DTSTART;VALUE=DATE:20200304
DESCRIPTION:Property ID# 472886\, Locatoin: 30 Bay Rd\, Kilbirnie\, Time: 1
 :00PM
SUMMARY:Auction for 
END:VEVENT
END:VCALENDAR
