BEGIN:VCALENDAR
VERSION:2.0
PRODID:icalendar-ruby
CALSCALE:GREGORIAN
BEGIN:VEVENT
DTSTAMP:20260422T085802Z
UID:eb216801-0f1d-4494-a49e-4395f0156de8
DTSTART;VALUE=DATE:20191025
DESCRIPTION:Property ID# 464053\, Locatoin: Harcourts Wellington City Offic
 e\, 54-56 Cambridge Terrace\, Wellington\, Time: 12:00PM
SUMMARY:Auction for 
END:VEVENT
END:VCALENDAR
