BEGIN:VCALENDAR
VERSION:2.0
PRODID:icalendar-ruby
CALSCALE:GREGORIAN
BEGIN:VEVENT
DTSTAMP:20210121T013949Z
UID:9f1a39ec-5026-4600-9a67-f2048eaae41b
DTSTART;TZID=Pacific/Auckland:20210124T110000
DTEND;TZID=Pacific/Auckland:20210124T113000
DESCRIPTION:Property ID# 498744
SUMMARY:Openhome for 2/259 Major Drive
END:VEVENT
END:VCALENDAR
