BEGIN:VCALENDAR
VERSION:2.0
PRODID:icalendar-ruby
CALSCALE:GREGORIAN
BEGIN:VEVENT
DTSTAMP:20210121T013947Z
UID:36a77597-e26e-491e-9565-ac95431caf36
DTSTART;TZID=Pacific/Auckland:20210123T130000
DTEND;TZID=Pacific/Auckland:20210123T133000
DESCRIPTION:Property ID# 499397
SUMMARY:Openhome for 23 Picasso Grove
END:VEVENT
END:VCALENDAR
