BEGIN:VCALENDAR
VERSION:2.0
PRODID:icalendar-ruby
CALSCALE:GREGORIAN
BEGIN:VEVENT
DTSTAMP:20210121T013950Z
UID:82853839-77be-4c5b-94b2-d1f69882be04
DTSTART;VALUE=DATE:20201217
DESCRIPTION:Property ID# 498059\, Time: 1:00PM
SUMMARY:Auction for 
END:VEVENT
END:VCALENDAR
