BEGIN:VCALENDAR
VERSION:2.0
PRODID:icalendar-ruby
CALSCALE:GREGORIAN
BEGIN:VEVENT
DTSTAMP:20210119T144520Z
UID:eabce495-0f35-43ad-a3bc-7741686c2ca5
DTSTART;VALUE=DATE:20201216
DESCRIPTION:Property ID# 496144\, Locatoin: Harcourts Wellington City Offic
 e\, 54-56 Cambridge Terrace (unless sold prior)\, Time: 12:15PM
SUMMARY:Auction for 
END:VEVENT
END:VCALENDAR
