BEGIN:VCALENDAR
VERSION:2.0
PRODID:icalendar-ruby
CALSCALE:GREGORIAN
BEGIN:VEVENT
DTSTAMP:20210119T144513Z
UID:dd557c22-189d-4693-8209-996b8e4a2bef
DTSTART;VALUE=DATE:20201126
DESCRIPTION:Property ID# 494997\, Locatoin: 8 Kent Terrace\, Wellington\, T
 ime: 12:00PM
SUMMARY:Auction for 
END:VEVENT
END:VCALENDAR
