BEGIN:VCALENDAR
VERSION:2.0
PRODID:icalendar-ruby
CALSCALE:GREGORIAN
BEGIN:VEVENT
DTSTAMP:20210119T144523Z
UID:5f87eb09-0cda-4cbb-a3a4-77dc1d7b83ce
DTSTART;VALUE=DATE:20201118
DESCRIPTION:Property ID# 493436\, Locatoin: Harcourts Wellington City Offic
 e\, 54-56 Cambridge Terrace\, Wellington (unless sold prior)\, Time: 12:15
 PM
SUMMARY:Auction for 
END:VEVENT
END:VCALENDAR
