BEGIN:VCALENDAR
VERSION:2.0
PRODID:icalendar-ruby
CALSCALE:GREGORIAN
BEGIN:VEVENT
DTSTAMP:20210119T144526Z
UID:b45a381a-15aa-4e63-870c-78a798d5f07e
DTSTART;VALUE=DATE:20200902
DESCRIPTION:Property ID# 486795\, Locatoin: Harcourts Wellington City Offic
 e\, 54-56 Cambridge Terrace\, Wellington (not selling prior)\, Time: 12:15
 PM
SUMMARY:Auction for 
END:VEVENT
END:VCALENDAR
