BEGIN:VCALENDAR
VERSION:2.0
PRODID:icalendar-ruby
CALSCALE:GREGORIAN
BEGIN:VEVENT
DTSTAMP:20210119T144528Z
UID:186cac29-71b9-42c4-95e9-534e1178ffcb
DTSTART;VALUE=DATE:20200722
DESCRIPTION:Property ID# 483217\, Locatoin: Harcourts Wellington City Offic
 e\, 54-56 Cambridge Terrace\, Wellington (unless sold prior)\, Time: 12:15
 PM
SUMMARY:Auction for 
END:VEVENT
END:VCALENDAR
