BEGIN:VCALENDAR
VERSION:2.0
PRODID:icalendar-ruby
CALSCALE:GREGORIAN
BEGIN:VEVENT
DTSTAMP:20210119T144531Z
UID:95403c7e-52f8-4040-b03a-708b62ab0d62
DTSTART;VALUE=DATE:20200311
DESCRIPTION:Property ID# 472877\, Locatoin: Harcourts Wellington City Offic
 e\, 54-56 Cambridge Terrace\, Wellington (unless sold prior)\, Time: 12:15
 PM
SUMMARY:Auction for 
END:VEVENT
END:VCALENDAR
