BEGIN:VCALENDAR
VERSION:2.0
PRODID:icalendar-ruby
CALSCALE:GREGORIAN
BEGIN:VEVENT
DTSTAMP:20210119T144538Z
UID:4a1d7296-7810-4299-b6d3-3afa41e55c7e
DTSTART;VALUE=DATE:20190912
DESCRIPTION:Property ID# 460364\, Locatoin: Harcourts Wellington City Offic
 e\, 54-56 Cambridge Terrace\, Wellington\, Time: 12:00PM
SUMMARY:Auction for 
END:VEVENT
END:VCALENDAR
