BEGIN:VCALENDAR
VERSION:2.0
PRODID:icalendar-ruby
CALSCALE:GREGORIAN
BEGIN:VEVENT
DTSTAMP:20210119T144556Z
UID:5510c0ed-d03f-4f73-8e61-4682ea688d7e
DTSTART;VALUE=DATE:20190823
DESCRIPTION:Property ID# 458746\, Locatoin: Harcourts Wellington City Offic
 e\, 54-56 Cambridge Terrace\, Wellington (unless sold prior)\, Time: 12:00
 PM
SUMMARY:Auction for 
END:VEVENT
END:VCALENDAR
